BEGIN:VCALENDAR
VERSION:2.0
PRODID:-//Perlenregen - ECPv6.15.20//NONSGML v1.0//EN
CALSCALE:GREGORIAN
METHOD:PUBLISH
X-ORIGINAL-URL:https://perlenregen.de
X-WR-CALDESC:Veranstaltungen für Perlenregen
REFRESH-INTERVAL;VALUE=DURATION:PT1H
X-Robots-Tag:noindex
X-PUBLISHED-TTL:PT1H
BEGIN:VTIMEZONE
TZID:UTC
BEGIN:STANDARD
TZOFFSETFROM:+0000
TZOFFSETTO:+0000
TZNAME:UTC
DTSTART:20240101T000000
END:STANDARD
END:VTIMEZONE
BEGIN:VTIMEZONE
TZID:Europe/Berlin
BEGIN:DAYLIGHT
TZOFFSETFROM:+0100
TZOFFSETTO:+0200
TZNAME:CEST
DTSTART:20240331T010000
END:DAYLIGHT
BEGIN:STANDARD
TZOFFSETFROM:+0200
TZOFFSETTO:+0100
TZNAME:CET
DTSTART:20241027T010000
END:STANDARD
BEGIN:DAYLIGHT
TZOFFSETFROM:+0100
TZOFFSETTO:+0200
TZNAME:CEST
DTSTART:20250330T010000
END:DAYLIGHT
BEGIN:STANDARD
TZOFFSETFROM:+0200
TZOFFSETTO:+0100
TZNAME:CET
DTSTART:20251026T010000
END:STANDARD
BEGIN:DAYLIGHT
TZOFFSETFROM:+0100
TZOFFSETTO:+0200
TZNAME:CEST
DTSTART:20260329T010000
END:DAYLIGHT
BEGIN:STANDARD
TZOFFSETFROM:+0200
TZOFFSETTO:+0100
TZNAME:CET
DTSTART:20261025T010000
END:STANDARD
END:VTIMEZONE
BEGIN:VEVENT
DTSTART;TZID=UTC:20260328T100000
DTEND;TZID=UTC:20260328T170000
DTSTAMP:20260419T144533
CREATED:20260227T144328Z
LAST-MODIFIED:20260227T144757Z
UID:961-1774692000-1774717200@perlenregen.de
SUMMARY:GartenLust Bad Lauchstädt
DESCRIPTION:Genscher-Saal der Historischen Kuranlagen
URL:https://perlenregen.de/event/gartenlust-bad-lauchstaedt/
END:VEVENT
BEGIN:VEVENT
DTSTART;TZID=UTC:20260314T120000
DTEND;TZID=UTC:20260314T170000
DTSTAMP:20260419T144533
CREATED:20260227T144134Z
LAST-MODIFIED:20260227T144134Z
UID:954-1773489600-1773507600@perlenregen.de
SUMMARY:Handarbeitsmesse Pegau
DESCRIPTION:
URL:https://perlenregen.de/event/handarbeitsmesse-pegau-2/
END:VEVENT
BEGIN:VEVENT
DTSTART;TZID=UTC:20260227T000000
DTEND;TZID=UTC:20260227T000000
DTSTAMP:20260419T144533
CREATED:20260227T145404Z
LAST-MODIFIED:20260227T145413Z
UID:970-1772150400-1772150400@perlenregen.de
SUMMARY:Frühlingsmarkt im Hotel am Park\, Dieskau
DESCRIPTION:
URL:https://perlenregen.de/event/fruehlingsmarkt-im-hotel-am-park-dieskau/
END:VEVENT
BEGIN:VEVENT
DTSTART;TZID=UTC:20260118T110000
DTEND;TZID=UTC:20260118T173000
DTSTAMP:20260419T144533
CREATED:20251106T144935Z
LAST-MODIFIED:20251106T144935Z
UID:930-1768734000-1768757400@perlenregen.de
SUMMARY:Wintermarkt Rittergut Etzdorf bei Theutschenthal
DESCRIPTION:
URL:https://perlenregen.de/event/wintermarkt-rittergut-etzdorf-bei-theutschenthal/
END:VEVENT
BEGIN:VEVENT
DTSTART;VALUE=DATE:20251211
DTEND;VALUE=DATE:20251215
DTSTAMP:20260419T144533
CREATED:20251106T144833Z
LAST-MODIFIED:20251106T144833Z
UID:928-1765411200-1765756799@perlenregen.de
SUMMARY:Christkind´l Markt mit Kunsthandwerkermarkt Bad Lauchstädt
DESCRIPTION:Säle des Kurhauses. \nÖffnungszeiten: Donnerstag 17 bis 20 Uhr\, \nFreitag 15 bis 20 Uhr\, \nSonnabend 13 bis 20 Uhr\, \nSonntag 13 bis 18 Uhr
URL:https://perlenregen.de/event/christkindl-markt-mit-kunsthandwerkermarkt-bad-lauchstaedt/
END:VEVENT
BEGIN:VEVENT
DTSTART;TZID=Europe/Berlin:20251206T170000
DTEND;TZID=Europe/Berlin:20251206T210000
DTSTAMP:20260419T144533
CREATED:20251106T155709Z
LAST-MODIFIED:20251106T155709Z
UID:936-1765040400-1765054800@perlenregen.de
SUMMARY:Adventsmarkt des DRK in Braschwitz
DESCRIPTION:
URL:https://perlenregen.de/event/adventsmarkt-des-drk-in-braschwitz/
END:VEVENT
BEGIN:VEVENT
DTSTART;TZID=UTC:20251130T130000
DTEND;TZID=UTC:20251130T170000
DTSTAMP:20260419T144533
CREATED:20251106T144638Z
LAST-MODIFIED:20251106T144638Z
UID:926-1764507600-1764522000@perlenregen.de
SUMMARY:Weihnachtsmarkt und Adventsmesse Pegau
DESCRIPTION:Volkshaus Pegau
URL:https://perlenregen.de/event/weihnachtsmarkt-und-adventsmesse-pegau/
END:VEVENT
BEGIN:VEVENT
DTSTART;TZID=Europe/Berlin:20251129T170000
DTEND;TZID=Europe/Berlin:20251129T233000
DTSTAMP:20260419T144533
CREATED:20251106T144543Z
LAST-MODIFIED:20251106T144543Z
UID:924-1764435600-1764459000@perlenregen.de
SUMMARY:Weihnachtsmarkt der Feuerwehr Landsberg/Gütz
DESCRIPTION:Gelände der FFW Gütz
URL:https://perlenregen.de/event/weihnachtsmarkt-der-feuerwehr-landsberg-guetz/
END:VEVENT
BEGIN:VEVENT
DTSTART;TZID=Europe/Berlin:20251122T100000
DTEND;TZID=Europe/Berlin:20251123T170000
DTSTAMP:20260419T144533
CREATED:20251106T144445Z
LAST-MODIFIED:20251106T160011Z
UID:922-1763805600-1763917200@perlenregen.de
SUMMARY:Hometown Markt Art&Handmade - Eventatelier in der Fährstrasse Halle (Saale)
DESCRIPTION:Eventatelier in der Fährstrasse 2\, Halle (Saale)\nJeweils von 10Uhr bis 17Uhr
URL:https://perlenregen.de/event/hometown-markt-arthandmade/
END:VEVENT
BEGIN:VEVENT
DTSTART;TZID=Europe/Berlin:20251108T110000
DTEND;TZID=Europe/Berlin:20251108T170000
DTSTAMP:20260419T144533
CREATED:20251106T144255Z
LAST-MODIFIED:20251106T144255Z
UID:920-1762599600-1762621200@perlenregen.de
SUMMARY:Martinsmarkt Weißenfels
DESCRIPTION:Geleitshaus-Gelände in der Burgstrasse
URL:https://perlenregen.de/event/martinsmarkt-weissenfels/
END:VEVENT
END:VCALENDAR